BEGIN:VCALENDAR
VERSION:2.0
PRODID:-//Association Culturelle Francophone de Zaventem - ECPv6.0.10//NONSGML v1.0//EN
CALSCALE:GREGORIAN
METHOD:PUBLISH
X-ORIGINAL-URL:https://associationzaventem.be
X-WR-CALDESC:évènements pour Association Culturelle Francophone de Zaventem
REFRESH-INTERVAL;VALUE=DURATION:PT1H
X-Robots-Tag:noindex
X-PUBLISHED-TTL:PT1H
BEGIN:VTIMEZONE
TZID:UTC
BEGIN:STANDARD
TZOFFSETFROM:+0000
TZOFFSETTO:+0000
TZNAME:UTC
DTSTART:20200101T000000
END:STANDARD
END:VTIMEZONE
BEGIN:VEVENT
DTSTART;TZID=UTC:20200509T073000
DTEND;TZID=UTC:20200509T183000
DTSTAMP:20260426T035057
CREATED:20191127T084130Z
LAST-MODIFIED:20200126T211640Z
UID:955-1589009400-1589049000@associationzaventem.be
SUMMARY:Blegny-Mine
DESCRIPTION:Départ de Sterrebeek à 7.30 H et retour vers 18.30 H \n1° Visite de la mine :  2 heures \nLa mine : un monde si fascinant qu’il faut découvrir dans toute son authenticité.  Un film raconte l’histoire fabuleuse de la « pierre noire » de  – 300 millions d’année à nos jours. \nEnsuite\, vous enfilez votre veste (fournie)\,  ajustez votre casque (fourni) et descendez avec la cage de mine dans les galeries souterraines à -30 et à – 60 mètres. Vous découvrez les bouveaux\, les chassages\, la taille\, le charbon\, le bruit des machines\, le travail  des hommes\, l’univers à la fois dur et passionnant de nos « Houyeux ». \nAprès être remontés « au jour »\, vous suivez le parcours du charbon dans les installations de triage et de lavage.  Culbuteurs\, tamis\, trémies\, système d’encagement et de décagement des  berlines\, processus d’épuration\, de lavage\, tout le traitement du charbon vous est expliqué\, depuis l’arrivée du minerai jusqu’à son transport et sa vente. \n2° L’exposition permanente au Puits-Marie : 1.30  heure \nL’ère belge du charbon et son utilisation industrielle a débuté au 12ème siècle à Liège.  Elle s’est terminée par la remonte de la dernière berline du charbonnage de Zolder  en 1992. Une page est tournée. \n 3° La balade en train touristique (50 minutes ) \nBalade commentée à la découverte du Pays de Dalhem-Blégny\, les charmes des vergers du Pays de Herve\,  et la ville médiévale de Dalhem au passé prestigieux. \nCette journée risque d’être exceptionnelle ! \nPAF. : 56 € (70€ nm) à payer pour le 30/04/2020
URL:https://associationzaventem.be/event/blegny-mine/
LOCATION:Blegny-Mine\, Rue Lambert Marlet 23\, Blégny\, 4670\, Belgique
CATEGORIES:2019-2020
END:VEVENT
END:VCALENDAR