BEGIN:VCALENDAR
VERSION:2.0
PRODID:-//Association Culturelle Francophone de Zaventem - ECPv6.0.10//NONSGML v1.0//EN
CALSCALE:GREGORIAN
METHOD:PUBLISH
X-WR-CALNAME:Association Culturelle Francophone de Zaventem
X-ORIGINAL-URL:https://associationzaventem.be
X-WR-CALDESC:évènements pour Association Culturelle Francophone de Zaventem
REFRESH-INTERVAL;VALUE=DURATION:PT1H
X-Robots-Tag:noindex
X-PUBLISHED-TTL:PT1H
BEGIN:VTIMEZONE
TZID:UTC
BEGIN:STANDARD
TZOFFSETFROM:+0000
TZOFFSETTO:+0000
TZNAME:UTC
DTSTART:20200101T000000
END:STANDARD
END:VTIMEZONE
BEGIN:VEVENT
DTSTART;VALUE=DATE:20200522
DTEND;VALUE=DATE:20200524
DTSTAMP:20260425T035246
CREATED:20191127T084316Z
LAST-MODIFIED:20200126T213121Z
UID:960-1590105600-1590278399@associationzaventem.be
SUMMARY:Week-end dans le Calaisis – Calais et Dunkerque
DESCRIPTION:Nous vous proposons une belle escapade au Pays des Calaisiens avec la découverte de la Ville de Calais\, et son imposant hôtel de Ville de style Renaissance flamand\, flanqué d’un beffroi classé au Patrimoine mondial de l’Unesco. En face de ceux-ci\, nous nous arrêterons devant les « Bourgeois de Calais »de Rodin. Après un déjeuner dans un restaurant « Paquebot » à la vue exceptionnelle et la cuisine savoureuse\, nous irons visiter la très intéressante Cité de la dentelle et de la Mode qui retrace toute l’histoire de cet artisanat de luxe et son évolution vers l’industrialisation. En fin d’après midi nous rejoindrons notre hôtel et pourrons nous reposer dans un agréable « Holiday Inn » disposant d’une salle de fitness et d’une piscine intérieure pour les amateurs. Nous y prendrons notre dîner dans un salon privé. \nLe lendemain\, nous partirons à la découverte de Dunkerque\, et nous commencerons par le Musée Portuaire situé dans des anciens entrepôts à tabac du XIXème siècle. Ce musée remarquable nous parlera de l’histoire de Dunkerque et de ses activités de pêche souvent très lointaine. Nous visiterons également le « Duchesse Anne »\, ancien 3 mâts et ancien navire école  qui nous témoigne des conditions de vie à bord des membres d’équipage. \nAprès un déjeuner dans un sympathique restaurant tout proche\, nous monterons à bord du « Texel »\, qui nous emmènera faire une croisière d’une heure dans le port de Dunkerque\, 3ème port de France\, où nous découvrirons ses installations gigantesques\, ses types de navires\, ses écluses\, ses quais\, sa fameuse digue du Break. S’il fait beau\, nous pourrons admirer le paysage sur le pont-terrasse ! \nA la fin de cette belle balade maritime\, nous ferons une petite pause café avant de rejoindre notre car pour le trajet de retour vers Sterrebeek. \nPAF : 180€ (210€ en chambre single) \nSolde (80€ ou 110€)  à verser pour ce 1er mars 2020
URL:https://associationzaventem.be/event/dunkerque-et-calais/
CATEGORIES:2019-2020
END:VEVENT
END:VCALENDAR