BEGIN:VCALENDAR
VERSION:2.0
PRODID:-//Association Culturelle Francophone de Zaventem - ECPv6.0.10//NONSGML v1.0//EN
CALSCALE:GREGORIAN
METHOD:PUBLISH
X-ORIGINAL-URL:https://associationzaventem.be
X-WR-CALDESC:évènements pour Association Culturelle Francophone de Zaventem
REFRESH-INTERVAL;VALUE=DURATION:PT1H
X-Robots-Tag:noindex
X-PUBLISHED-TTL:PT1H
BEGIN:VTIMEZONE
TZID:UTC
BEGIN:STANDARD
TZOFFSETFROM:+0000
TZOFFSETTO:+0000
TZNAME:UTC
DTSTART:20200101T000000
END:STANDARD
END:VTIMEZONE
BEGIN:VEVENT
DTSTART;TZID=UTC:20200111T190000
DTEND;TZID=UTC:20200111T220000
DTSTAMP:20260425T105949
CREATED:20191204T085256Z
LAST-MODIFIED:20191204T085256Z
UID:993-1578769200-1578780000@associationzaventem.be
SUMMARY:Ceci n'est pas un lion - film
DESCRIPTION:Alex Vizorek\, en passant par Bart De Wever\, Yves Leterme\, Filip Dewinter\, Herman De Croo\, Antoinette Spaak\, Pascal Smet\, Olivier Maingain\, Daan\, Bruno Coppens\, Pierre Kroll\, Pau »Ceci n’est pas un lion » est un documentaire choc d’un indépendantiste québécois\, en mal de pays\, qui bouscule les Flamands sur leur propre désir d’indépendance. \n\nEntièrement tourné en français auprès d’une cinquantaine de personnalités belges\, ce long-métrage du réalisateur Jean-Pierre Roy invite à la réflexion en explorant les méandres de la politique belge rythmée par le mouvement flamand. \nDe Willy Claes à  l Magnette et Karl-Heinz Lambertz\, « Ceci n’est pas un lion » dépeint une vision caustique de chaque intervenant\, parfois mis face à ses propres contradictions. \n  \nFilm (complètement) indépendant\nRéalisé\, tourné\, monté\, produit et distribué en solo\, « Ceci n’est pas un lion » est entré en gestation lors de l’arrivée de la N-VA au pouvoir fédéral en 2014. Après avoir exploré le destin de trois « nations sans pays » (Québec\, Catalogne et Écosse) dans mon documentaire « Questions nationales »\, Jean-Pierre Roy s’est donc lancé à la découverte du projet indépendantiste de la Flandre. \n  \nLa soirée se déroulera comme suit : \n  \n19.15 : Présentation du film par son auteur \n19.30 : Projection du film \n20.30 : Entracte et verre de l’amitié \n21.00 : poursuite de la projection \n21.50 : Moment questions réponses \nN’hésitez pas à amener amis et connaissances pour que la salle soit bien remplie mais pensez à vous inscrire au secrétariat !
URL:https://associationzaventem.be/event/ceci-nest-pas-un-lion-film/
LOCATION:hotel communal de Woluwé-Saint-Lambert\, Avenue Paul Hymans\, 2\, Bruxelles\, 1200\, Belgique
CATEGORIES:2019-2020
END:VEVENT
END:VCALENDAR